BEGIN:VCALENDAR
VERSION:2.0
PRODID:-//GSHV Groupe Sportif des Handicapés de la Vue - ECPv6.15.20//NONSGML v1.0//EN
CALSCALE:GREGORIAN
METHOD:PUBLISH
X-ORIGINAL-URL:https://wp.gshv.ch
X-WR-CALDESC:Évènements pour GSHV Groupe Sportif des Handicapés de la Vue
REFRESH-INTERVAL;VALUE=DURATION:PT1H
X-Robots-Tag:noindex
X-PUBLISHED-TTL:PT1H
BEGIN:VTIMEZONE
TZID:Europe/Zurich
BEGIN:DAYLIGHT
TZOFFSETFROM:+0100
TZOFFSETTO:+0200
TZNAME:CEST
DTSTART:20230326T010000
END:DAYLIGHT
BEGIN:STANDARD
TZOFFSETFROM:+0200
TZOFFSETTO:+0100
TZNAME:CET
DTSTART:20231029T010000
END:STANDARD
BEGIN:DAYLIGHT
TZOFFSETFROM:+0100
TZOFFSETTO:+0200
TZNAME:CEST
DTSTART:20240331T010000
END:DAYLIGHT
BEGIN:STANDARD
TZOFFSETFROM:+0200
TZOFFSETTO:+0100
TZNAME:CET
DTSTART:20241027T010000
END:STANDARD
BEGIN:DAYLIGHT
TZOFFSETFROM:+0100
TZOFFSETTO:+0200
TZNAME:CEST
DTSTART:20250330T010000
END:DAYLIGHT
BEGIN:STANDARD
TZOFFSETFROM:+0200
TZOFFSETTO:+0100
TZNAME:CET
DTSTART:20251026T010000
END:STANDARD
END:VTIMEZONE
BEGIN:VEVENT
DTSTART;TZID=Europe/Zurich:20240428T083000
DTEND;TZID=Europe/Zurich:20240428T181000
DTSTAMP:20260423T111137
CREATED:20240330T135432Z
LAST-MODIFIED:20241027T150419Z
UID:1698-1714293000-1714327800@wp.gshv.ch
SUMMARY:Marche de Branson à Saillon à travers le vignoble valaisan 2024
DESCRIPTION:Course : De Branson à Saillon à travers le vignoble valaisan \nDate :Dimanche 28 AVRIL 2024 \nNicolas nous propose une balade à travers le vignoble valaisan\, en espérant au soleil de cette rive droite du Rhône.\nDepuis le village de Branson nous remontons légèrement dans les vignes et\, entre sentiers pédestres et chemins viticoles nous essayons d’atteindre Saillon.\nLe parcours du « Chemin du Vignoble » long de 65 km\, traverse les vignes en terrasses ensoleillées et des villages pittoresques qui ont donné leur nom à des prestigieux vins valaisans.\nNous nous contenterons de parcourir une dizaine de kilomètres\, tout en sachant qu’il est possible\, au cas où vos jambes ne le supportent plus\, de raccourcir le parcours\, des arrêts de bus ne sont pas loin. \nDistance : 10 kms environ\nDénivelé : 400 m. environ\nDurée effective de la marche : 4h30 environ\nDifficulté :  F \nLieu de rendez-vous : 8h30 hall central gare de Lausanne \nDépart de Lausanne :8h50 voie 3 direction Briguevia Martigny\nDépart de Genève : 8h10 voie 6 direction Brigue via Martigny\nDépart de Fribourg :  7h56 voie 4 direction Genève via Lausanne et Martigny\nDépart de Berne : 7h34 voie 3 direction Genève via Lausanne et Martigny\nDépart de Neuchâtel : 7h03 voie 3\, arrivée à Yverdon-les-Bains à 7h21 attention au travaux\nDépart d’Yverdon-les-Bains : 7h29  avec le bus cause travaux arrivée à Lausanne à8h24\nDépart de Martigny : 9h47avec le bus 311\nArrivée à Branson village à 9h53\nRetour\nDépart à 16h31 de Saillon avec le bus 311\nDépart de Martigny à 17h15 voie 1  direction Genève\nArrivée à  Lausanne à 18h10 voie 8 \nRepas du midi :Pique-nique tiré du sac \nChef de course :  Nicolas Xanthopoulos Tél :  077 401 25 40 \nPrécisions complémentaires :  Par temps incertains : nous partons de toute façon \nInscription  chez Chantal tél : 079 388 06 22\nd’ici au dimanche 21 avril2024\nou sur le site : www.gshv.ch\nF facile / MD moyennement difficile / TD difficile (sentiers alpins)
URL:https://wp.gshv.ch/activite/marche-davril/
CATEGORIES:Marche
END:VEVENT
END:VCALENDAR