BEGIN:VCALENDAR
VERSION:2.0
PRODID:-//GSHV Groupe Sportif des Handicapés de la Vue - ECPv6.15.20//NONSGML v1.0//EN
CALSCALE:GREGORIAN
METHOD:PUBLISH
X-WR-CALNAME:GSHV Groupe Sportif des Handicapés de la Vue
X-ORIGINAL-URL:https://wp.gshv.ch
X-WR-CALDESC:Évènements pour GSHV Groupe Sportif des Handicapés de la Vue
REFRESH-INTERVAL;VALUE=DURATION:PT1H
X-Robots-Tag:noindex
X-PUBLISHED-TTL:PT1H
BEGIN:VTIMEZONE
TZID:Europe/Zurich
BEGIN:DAYLIGHT
TZOFFSETFROM:+0100
TZOFFSETTO:+0200
TZNAME:CEST
DTSTART:20230326T010000
END:DAYLIGHT
BEGIN:STANDARD
TZOFFSETFROM:+0200
TZOFFSETTO:+0100
TZNAME:CET
DTSTART:20231029T010000
END:STANDARD
BEGIN:DAYLIGHT
TZOFFSETFROM:+0100
TZOFFSETTO:+0200
TZNAME:CEST
DTSTART:20240331T010000
END:DAYLIGHT
BEGIN:STANDARD
TZOFFSETFROM:+0200
TZOFFSETTO:+0100
TZNAME:CET
DTSTART:20241027T010000
END:STANDARD
BEGIN:DAYLIGHT
TZOFFSETFROM:+0100
TZOFFSETTO:+0200
TZNAME:CEST
DTSTART:20250330T010000
END:DAYLIGHT
BEGIN:STANDARD
TZOFFSETFROM:+0200
TZOFFSETTO:+0100
TZNAME:CET
DTSTART:20251026T010000
END:STANDARD
END:VTIMEZONE
BEGIN:VEVENT
DTSTART;VALUE=DATE:20240713
DTEND;VALUE=DATE:20240714
DTSTAMP:20260423T072436
CREATED:20240527T152725Z
LAST-MODIFIED:20240527T152851Z
UID:2223-1720828800-1720915199@wp.gshv.ch
SUMMARY:Paddle 2024 (3ème sortie)
DESCRIPTION:Vous ne craignez pas l’eau. Vous voulez passer un moment convivial sur le lac Léman. \nNous vous proposons de découvrir les joies du Stand Up Paddle.  \nCe cours convient aussi bien aux sportifs débutants qu’aux sportifs confirmés. \nCette année\, nous vous proposons à nouveau 5 cours avec notre coach spécialisée\nKiny Parade \nDates :\n–	dimanche 9 juin\n–	Samedi-  29 juin\n–	Samedi 13juillet\n–	Samedi 10 août\n–	Samedi 7 septembre \nLieu de l’activité  Versoix à Genève plage de la Bécassine \nLes horaires vous seront communiqués ultérieurement \nEncadrement : Kiny Parade coach spécialisée \nPrix : CHF 30\,- \nRepas : Restaurant\nRepas à votre charge\, boissons offertes pars le GSHV \nRemarque : savoir bien nager \nEn cas de mauvais temps l’activité sera annulée \nInscription chez Vincent tél : 079 235 93 29\nOu sur le groupe whats’app une semaine avant l’activité
URL:https://wp.gshv.ch/activite/paddle-2024-3/
CATEGORIES:Paddle
END:VEVENT
END:VCALENDAR