BEGIN:VCALENDAR
VERSION:2.0
PRODID:-//GSHV Groupe Sportif des Handicapés de la Vue - ECPv6.15.20//NONSGML v1.0//EN
CALSCALE:GREGORIAN
METHOD:PUBLISH
X-WR-CALNAME:GSHV Groupe Sportif des Handicapés de la Vue
X-ORIGINAL-URL:https://wp.gshv.ch
X-WR-CALDESC:Évènements pour GSHV Groupe Sportif des Handicapés de la Vue
REFRESH-INTERVAL;VALUE=DURATION:PT1H
X-Robots-Tag:noindex
X-PUBLISHED-TTL:PT1H
BEGIN:VTIMEZONE
TZID:Europe/Zurich
BEGIN:DAYLIGHT
TZOFFSETFROM:+0100
TZOFFSETTO:+0200
TZNAME:CEST
DTSTART:20230326T010000
END:DAYLIGHT
BEGIN:STANDARD
TZOFFSETFROM:+0200
TZOFFSETTO:+0100
TZNAME:CET
DTSTART:20231029T010000
END:STANDARD
BEGIN:DAYLIGHT
TZOFFSETFROM:+0100
TZOFFSETTO:+0200
TZNAME:CEST
DTSTART:20240331T010000
END:DAYLIGHT
BEGIN:STANDARD
TZOFFSETFROM:+0200
TZOFFSETTO:+0100
TZNAME:CET
DTSTART:20241027T010000
END:STANDARD
BEGIN:DAYLIGHT
TZOFFSETFROM:+0100
TZOFFSETTO:+0200
TZNAME:CEST
DTSTART:20250330T010000
END:DAYLIGHT
BEGIN:STANDARD
TZOFFSETFROM:+0200
TZOFFSETTO:+0100
TZNAME:CET
DTSTART:20251026T010000
END:STANDARD
END:VTIMEZONE
BEGIN:VEVENT
DTSTART;TZID=Europe/Zurich:20240403T173000
DTEND;TZID=Europe/Zurich:20240403T203000
DTSTAMP:20260423T085017
CREATED:20240329T160830Z
LAST-MODIFIED:20241027T174429Z
UID:1652-1712165400-1712176200@wp.gshv.ch
SUMMARY:Aviron avec le Lausanne Sport Aviron à Vidy 2024
DESCRIPTION:Activité : Aviron avec le Lausanne Sport Aviron à Vidy à Lausanne \nVous aimez les sports nautiques.  Alors venez découvrir l’aviron\, un sport bien adapté aux personnes déficientes visuelles. Que vous soyez débutant ou sportif confirmé\, vous pouvez venir essayer à condition de savoir nager. \nVous serez encadrés par des moniteurs spécialisés. \nVous pourrez ramer  sur une  yolette à 4 rameurs et 1 bareur\, un bateau très stable. \nNous vous attendons nombreux : \nchaque mercredi à 17 h 30 précise \nau local du LS Aviron à Vidy \nPour s’y rendre\, prendre le bus no 1 devant la gare de Lausanne  jusqu’à l’arrêt de la Maladière. Ensuite\, une personne pourra vous accompagner jusqu’au local. \nLes entraînements se dérouleront chaque mercredi soir de 17 h 30 à 20 h 30 jusqu’en octobre. \nLes guides du GSHV qui aimeraient essayer sont aussi les bienvenus.  \nMatériel  : un gilet de sauvetage est obligatoire. Il est fournit par le club \nPrécisions complémentaires : Par une météo incertaine\, l’entraînement a lieu de toute façon  à l’intérieur soit au bassin couvert ou soit en salle sur les rameurs \nInscription chez Nadia Trimarchi  	 078 857 37 43 \nou sur le groupe whats’app avant chaque dimanche
URL:https://wp.gshv.ch/activite/aviron-avec-le-lausanne-sport-aviron-a-vidy/
CATEGORIES:Aviron
END:VEVENT
BEGIN:VEVENT
DTSTART;TZID=Europe/Zurich:20240410T173000
DTEND;TZID=Europe/Zurich:20240410T203000
DTSTAMP:20260423T085017
CREATED:20240329T193824Z
LAST-MODIFIED:20241027T174246Z
UID:1656-1712770200-1712781000@wp.gshv.ch
SUMMARY:Aviron avec le Lausanne Sport Aviron à Vidy 2024
DESCRIPTION:Activité : Aviron avec le Lausanne Sport Aviron à Vidy à Lausanne \nVous aimez les sports nautiques.  Alors venez découvrir l’aviron\, un sport bien adapté aux personnes déficientes visuelles. Que vous soyez débutant ou sportif confirmé\, vous pouvez venir essayer à condition de savoir nager. \nVous serez encadrés par des moniteurs spécialisés. \nVous pourrez ramer  sur une  yolette à 4 rameurs et 1 bareur\, un bateau très stable. \nNous vous attendons nombreux : \nchaque mercredi à 17 h 30 précise \nau local du LS Aviron à Vidy \nPour s’y rendre\, prendre le bus no 1 devant la gare de Lausanne  jusqu’à l’arrêt de la Maladière. Ensuite\, une personne pourra vous accompagner jusqu’au local. \nLes entraînements se dérouleront chaque mercredi soir de 17 h 30 à 20 h 30 jusqu’en octobre. \nLes guides du GSHV qui aimeraient essayer sont aussi les bienvenus.  \nMatériel  : un gilet de sauvetage est obligatoire. Il est fournit par le club \nPrécisions complémentaires : Par une météo incertaine\, l’entraînement a lieu de toute façon  à l’intérieur soit au bassin couvert ou soit en salle sur les rameurs \nInscription chez Nadia Trimarchi  	 078 857 37 43 \nou sur le groupe whats’app avant chaque dimanche
URL:https://wp.gshv.ch/activite/aviron-avec-le-lausanne-sport-aviron-a-vidy-0/
CATEGORIES:Aviron
END:VEVENT
BEGIN:VEVENT
DTSTART;TZID=Europe/Zurich:20240414T075000
DTEND;TZID=Europe/Zurich:20240414T180000
DTSTAMP:20260423T085017
CREATED:20240330T135402Z
LAST-MODIFIED:20241027T151755Z
UID:1689-1713081000-1713117600@wp.gshv.ch
SUMMARY:1ère sortie de tandem à Moutier 2024
DESCRIPTION:Course :Tandem dans le Jura au départ de  Moutier \nDate : Dimanche 14 avril 2024 \nAprès le succès de notre sortie de l’année passé dans le Jura\,  Nicole et\n Jean-Claude\,nous accueille à nouveau chez eux à Moutier.\nPour débuter la saison\, Jean-Claude\, nous a préparé  un joli parcours vallonné d’environ 50 kms\, dans sa belle région du jura au départ de Moutier.\nA mi-parcours\, nous ferons une pause dans un restaurant pour le repas de midi.  \nDistance effective de la sortie : 50 kms environ \nDifficulté : MD \nLieu de rendez-vous : 07 h 50 hall central gare de Lausanne \nHeure de départ de Lausanne : 08h15 direction Zurich voie 5\nArrivée à Bienne à 09h15 voie 3\nDépart de Bienne à 09h19 voie 2\nArrivée à Moutier à 09h36 voie 2 \nRetour : Lausanne gare en fin d’après-midi à voir sur place \nRepas : Restaurant\nRepas à votre charge\, boissons offertes pars le GSHV \nRemarques : 5 tandems maximum\nSi vous transportez votre propre tandem à Moutier\,  vous pourrez  également participer à cette sortie. \nInscription chez Vincent Tourel tél : 079 235 93 29\nd’ici au dimanche 7 avril 2024\nou par mail : v.tourel@bluewin.ch \nF facile / MD moyennement difficile/ D difficile
URL:https://wp.gshv.ch/activite/tandem1/
CATEGORIES:Tandem
END:VEVENT
BEGIN:VEVENT
DTSTART;TZID=Europe/Zurich:20240417T173000
DTEND;TZID=Europe/Zurich:20240417T203000
DTSTAMP:20260423T085017
CREATED:20240330T135259Z
LAST-MODIFIED:20241027T144507Z
UID:1662-1713375000-1713385800@wp.gshv.ch
SUMMARY:Aviron avec le Lausanne Sport Aviron à Vidy 2024
DESCRIPTION:Activité : Aviron avec le Lausanne Sport Aviron à Vidy à Lausanne \nVous aimez les sports nautiques.  Alors venez découvrir l’aviron\, un sport bien adapté aux personnes déficientes visuelles. Que vous soyez débutant ou sportif confirmé\, vous pouvez venir essayer à condition de savoir nager. \nVous serez encadrés par des moniteurs spécialisés. \nVous pourrez ramer  sur une  yolette à 4 rameurs et 1 bareur\, un bateau très stable. \nNous vous attendons nombreux : \nchaque mercredi à 17 h 30 précise \nau local du LS Aviron à Vidy \nPour s’y rendre\, prendre le bus no 1 devant la gare de Lausanne  jusqu’à l’arrêt de la Maladière. Ensuite\, une personne pourra vous accompagner jusqu’au local. \nLes entraînements se dérouleront chaque mercredi soir de 17 h 30 à 20 h 30 jusqu’en octobre. \nLes guides du GSHV qui aimeraient essayer sont aussi les bienvenus.  \nMatériel  : un gilet de sauvetage est obligatoire. Il est fournit par le club \nPrécisions complémentaires : Par une météo incertaine\, l’entraînement a lieu de toute façon  à l’intérieur soit au bassin couvert ou soit en salle sur les rameurs \nInscription chez Nadia Trimarchi  	 078 857 37 43 \nou sur le groupe whats’app avant chaque dimanche
URL:https://wp.gshv.ch/activite/aviron-avec-le-lausanne-sport-aviron-a-vidy-2/
CATEGORIES:Aviron
END:VEVENT
BEGIN:VEVENT
DTSTART;TZID=Europe/Zurich:20240424T173000
DTEND;TZID=Europe/Zurich:20240424T203000
DTSTAMP:20260423T085017
CREATED:20240330T135259Z
LAST-MODIFIED:20241027T144412Z
UID:1663-1713979800-1713990600@wp.gshv.ch
SUMMARY:Aviron avec le Lausanne Sport Aviron à Vidy 2024
DESCRIPTION:Activité : Aviron avec le Lausanne Sport Aviron à Vidy à Lausanne \nVous aimez les sports nautiques.  Alors venez découvrir l’aviron\, un sport bien adapté aux personnes déficientes visuelles. Que vous soyez débutant ou sportif confirmé\, vous pouvez venir essayer à condition de savoir nager. \nVous serez encadrés par des moniteurs spécialisés. \nVous pourrez ramer  sur une  yolette à 4 rameurs et 1 bareur\, un bateau très stable. \nNous vous attendons nombreux : \nchaque mercredi à 17 h 30 précise \nau local du LS Aviron à Vidy \nPour s’y rendre\, prendre le bus no 1 devant la gare de Lausanne  jusqu’à l’arrêt de la Maladière. Ensuite\, une personne pourra vous accompagner jusqu’au local. \nLes entraînements se dérouleront chaque mercredi soir de 17 h 30 à 20 h 30 jusqu’en octobre. \nLes guides du GSHV qui aimeraient essayer sont aussi les bienvenus.  \nMatériel  : un gilet de sauvetage est obligatoire. Il est fournit par le club \nPrécisions complémentaires : Par une météo incertaine\, l’entraînement a lieu de toute façon  à l’intérieur soit au bassin couvert ou soit en salle sur les rameurs \nInscription chez Nadia Trimarchi  	 078 857 37 43 \nou sur le groupe whats’app avant chaque dimanche
URL:https://wp.gshv.ch/activite/aviron-avec-le-lausanne-sport-aviron-a-vidy-3/
CATEGORIES:Aviron
END:VEVENT
BEGIN:VEVENT
DTSTART;TZID=Europe/Zurich:20240427T090000
DTEND;TZID=Europe/Zurich:20240427T170000
DTSTAMP:20260423T085017
CREATED:20240330T135402Z
LAST-MODIFIED:20241027T151702Z
UID:1690-1714208400-1714237200@wp.gshv.ch
SUMMARY:2ème sortie de tandem 2024
DESCRIPTION:Comme ces dernières saisons\, pour nos premières sorties\, nous vous proposerons des parcours de  35 à 50 kilomètres.  \nPour toutes nos sorties\, le rendez-vous est fixé à 9 h à notre  local   route\ndes Plaines du loup 7 à Lausanne. \nDans la mesure du possible\, essayez de vous inscrire une semaine avant l’événement\, cela facilitera la recherche de pilotes\, nous vous en remercions.   \nInscription chez Vincent Tourel                             079 235 93 29.
URL:https://wp.gshv.ch/activite/tandem2/
CATEGORIES:Tandem
END:VEVENT
BEGIN:VEVENT
DTSTART;TZID=Europe/Zurich:20240428T083000
DTEND;TZID=Europe/Zurich:20240428T181000
DTSTAMP:20260423T085017
CREATED:20240330T135432Z
LAST-MODIFIED:20241027T150419Z
UID:1698-1714293000-1714327800@wp.gshv.ch
SUMMARY:Marche de Branson à Saillon à travers le vignoble valaisan 2024
DESCRIPTION:Course : De Branson à Saillon à travers le vignoble valaisan \nDate :Dimanche 28 AVRIL 2024 \nNicolas nous propose une balade à travers le vignoble valaisan\, en espérant au soleil de cette rive droite du Rhône.\nDepuis le village de Branson nous remontons légèrement dans les vignes et\, entre sentiers pédestres et chemins viticoles nous essayons d’atteindre Saillon.\nLe parcours du « Chemin du Vignoble » long de 65 km\, traverse les vignes en terrasses ensoleillées et des villages pittoresques qui ont donné leur nom à des prestigieux vins valaisans.\nNous nous contenterons de parcourir une dizaine de kilomètres\, tout en sachant qu’il est possible\, au cas où vos jambes ne le supportent plus\, de raccourcir le parcours\, des arrêts de bus ne sont pas loin. \nDistance : 10 kms environ\nDénivelé : 400 m. environ\nDurée effective de la marche : 4h30 environ\nDifficulté :  F \nLieu de rendez-vous : 8h30 hall central gare de Lausanne \nDépart de Lausanne :8h50 voie 3 direction Briguevia Martigny\nDépart de Genève : 8h10 voie 6 direction Brigue via Martigny\nDépart de Fribourg :  7h56 voie 4 direction Genève via Lausanne et Martigny\nDépart de Berne : 7h34 voie 3 direction Genève via Lausanne et Martigny\nDépart de Neuchâtel : 7h03 voie 3\, arrivée à Yverdon-les-Bains à 7h21 attention au travaux\nDépart d’Yverdon-les-Bains : 7h29  avec le bus cause travaux arrivée à Lausanne à8h24\nDépart de Martigny : 9h47avec le bus 311\nArrivée à Branson village à 9h53\nRetour\nDépart à 16h31 de Saillon avec le bus 311\nDépart de Martigny à 17h15 voie 1  direction Genève\nArrivée à  Lausanne à 18h10 voie 8 \nRepas du midi :Pique-nique tiré du sac \nChef de course :  Nicolas Xanthopoulos Tél :  077 401 25 40 \nPrécisions complémentaires :  Par temps incertains : nous partons de toute façon \nInscription  chez Chantal tél : 079 388 06 22\nd’ici au dimanche 21 avril2024\nou sur le site : www.gshv.ch\nF facile / MD moyennement difficile / TD difficile (sentiers alpins)
URL:https://wp.gshv.ch/activite/marche-davril/
CATEGORIES:Marche
END:VEVENT
END:VCALENDAR