BEGIN:VCALENDAR
VERSION:2.0
PRODID:-//GSHV Groupe Sportif des Handicapés de la Vue - ECPv6.15.20//NONSGML v1.0//EN
CALSCALE:GREGORIAN
METHOD:PUBLISH
X-WR-CALNAME:GSHV Groupe Sportif des Handicapés de la Vue
X-ORIGINAL-URL:https://wp.gshv.ch
X-WR-CALDESC:Évènements pour GSHV Groupe Sportif des Handicapés de la Vue
REFRESH-INTERVAL;VALUE=DURATION:PT1H
X-Robots-Tag:noindex
X-PUBLISHED-TTL:PT1H
BEGIN:VTIMEZONE
TZID:Europe/Zurich
BEGIN:DAYLIGHT
TZOFFSETFROM:+0100
TZOFFSETTO:+0200
TZNAME:CEST
DTSTART:20230326T010000
END:DAYLIGHT
BEGIN:STANDARD
TZOFFSETFROM:+0200
TZOFFSETTO:+0100
TZNAME:CET
DTSTART:20231029T010000
END:STANDARD
BEGIN:DAYLIGHT
TZOFFSETFROM:+0100
TZOFFSETTO:+0200
TZNAME:CEST
DTSTART:20240331T010000
END:DAYLIGHT
BEGIN:STANDARD
TZOFFSETFROM:+0200
TZOFFSETTO:+0100
TZNAME:CET
DTSTART:20241027T010000
END:STANDARD
BEGIN:DAYLIGHT
TZOFFSETFROM:+0100
TZOFFSETTO:+0200
TZNAME:CEST
DTSTART:20250330T010000
END:DAYLIGHT
BEGIN:STANDARD
TZOFFSETFROM:+0200
TZOFFSETTO:+0100
TZNAME:CET
DTSTART:20251026T010000
END:STANDARD
END:VTIMEZONE
BEGIN:VEVENT
DTSTART;TZID=Europe/Zurich:20240703T173000
DTEND;TZID=Europe/Zurich:20240703T203000
DTSTAMP:20260423T050055
CREATED:20240330T135317Z
LAST-MODIFIED:20241027T143302Z
UID:1673-1720027800-1720038600@wp.gshv.ch
SUMMARY:Aviron avec le Lausanne Sport Aviron à Vidy 2024
DESCRIPTION:Activité : Aviron avec le Lausanne Sport Aviron à Vidy à Lausanne \nVous aimez les sports nautiques.  Alors venez découvrir l’aviron\, un sport bien adapté aux personnes déficientes visuelles. Que vous soyez débutant ou sportif confirmé\, vous pouvez venir essayer à condition de savoir nager. \nVous serez encadrés par des moniteurs spécialisés. \nVous pourrez ramer  sur une  yolette à 4 rameurs et 1 bareur\, un bateau très stable. \nNous vous attendons nombreux : \nchaque mercredi à 17 h 30 précise \nau local du LS Aviron à Vidy \nPour s’y rendre\, prendre le bus no 1 devant la gare de Lausanne  jusqu’à l’arrêt de la Maladière. Ensuite\, une personne pourra vous accompagner jusqu’au local. \nLes entraînements se dérouleront chaque mercredi soir de 17 h 30 à 20 h 30 jusqu’en octobre. \nLes guides du GSHV qui aimeraient essayer sont aussi les bienvenus.  \nMatériel  : un gilet de sauvetage est obligatoire. Il est fournit par le club \nPrécisions complémentaires : Par une météo incertaine\, l’entraînement a lieu de toute façon  à l’intérieur soit au bassin couvert ou soit en salle sur les rameurs \nInscription chez Nadia Trimarchi  	 078 857 37 43 \nou sur le groupe whats’app avant chaque dimanche
URL:https://wp.gshv.ch/activite/aviron-avec-le-lausanne-sport-aviron-a-vidy-13/
CATEGORIES:Aviron
END:VEVENT
BEGIN:VEVENT
DTSTART;TZID=Europe/Zurich:20240706T060000
DTEND;TZID=Europe/Zurich:20240707T191500
DTSTAMP:20260423T050055
CREATED:20240330T135447Z
LAST-MODIFIED:20241027T145253Z
UID:1705-1720245600-1720379700@wp.gshv.ch
SUMMARY:Week-end de marche Iffigenalp - Cabane Wildstrubel 2024
DESCRIPTION:Course : Weekend Iffigenalp – Cabane Wildstrubel – Lac de Tseuzier par le Rawyl \nDate :  du samedi 6 au dimanche 7 juillet 2024 \nDescription de la course : Depuis l’alpage bucolique d’Iffigenalp au-dessus de La Lenk\, nous prenons le sentier muletier par endroit raide qui sillonne on ne sait comment par des vires larges et sûres l’impressionnante paroi rocheuse dominant la vallée. Arrivés sur le plateau du Rawyl\, nous passons par les lacs du Rawyl avant de rejoindre la Cabane du Wildstrubel par une moraine assez raide.\nDurée de la course : environ 7heures avec les pauses\, 1225 m de dénivelé positif\, mais dans une pente uniforme tout sauf « casse-pattes ».\nLe lendemain\, nous redescendons de la Cabane vers le col du Rawyl\, puis poursuivons sur le magnifique plateau du Plan des Roses avant de descendre vers le Lac de Tseuzier et son barrage d’où nous prendrons le bus de retour vers Sion. Durée de la course : environ 5 heures 30 avec les pauses\, 1200 m de descente.\nNiveau de difficulté : TD. Cette randonnée de 2 jours nécessite une très bonne condition physique\, vu les dénivelés importants. \nLieu de rendez-vous : 06h00 hall central gare de Lausanne \nHeure de départ de Lausanne : 06 h 21 voie 3\, direction Brigue via Montreux\, Zweisimmen\, Lenk\nDepuis Morges : 06h00 voie 2  direction Brigue via Montreux\, Zweisimmen\, Lenk\nDepuis Genève : 05 h 42 voie 2\, direction Berne via Berne\, Zweisimmen\, Lenk\nDepuis Fribourg : 07h04 voie 4\, direction Berne via Berne\, Zweisimmen\, Lenk\nDepuis Neuchâtel : 06h32 voie 2\, direction Berne via Berne\, Zweisimmen\, Lenk\nDepuis Bienne : 06h54 voie 9\, direction Belp via Berne\, Zweisimmen\, Lenk\nDepuis Berne : 07h39 voie 9 direction Zweisimmen via Zweisimmen\, Lenk\nDepuis Zweisimmen : 09h05 voie 8 direction Lenk Via Lenk\nDepuis Lenk : 09h30 avec le bus 282\nArrivée à Iffigenalp : 09h54\nRetour le dimanche 7 juillet :\nDépart Barrage de Tseuzier : 16h45\, arrivée à Sion à 17h50\nDépart de Sion : 18h01 voie 3 direction Lausanne\nArrivée à Lausanne : 19h10 voie 8 \nPrix du week-end : CHF 70.- \nRepas  du midi : 2 pique-niques tirés du sac \nNombre de participants : 20 membres au maximum \nChef de course : Paul-Henri Vallotton  tél : 079 688 18 39  \nLes chiens ne sont pas admis à cette course\nL’utilisation d’un drap de couchage (sac à viande) est obligatoire. Si nécessaire le gardien en met à disposition au prix de CHF 5.- l’unité\nPar temps incertain :  course annulée si météo très mauvaise (orages violents\, neige) \nInscription : Vincent                              tél : 079 235 93 29\nd’ici au dimanche 30 juin 2024\nou sur le site : www.gshv.ch\nF facile / MD moyennement difficile / TD difficile (sentiers alpins)
URL:https://wp.gshv.ch/activite/week-end-de-marche/
CATEGORIES:Marche
END:VEVENT
BEGIN:VEVENT
DTSTART;TZID=Europe/Zurich:20240710T173000
DTEND;TZID=Europe/Zurich:20240710T203000
DTSTAMP:20260423T050055
CREATED:20240330T135317Z
LAST-MODIFIED:20241027T143159Z
UID:1674-1720632600-1720643400@wp.gshv.ch
SUMMARY:Aviron avec le Lausanne Sport Aviron à Vidy 2024
DESCRIPTION:Activité : Aviron avec le Lausanne Sport Aviron à Vidy à Lausanne \nVous aimez les sports nautiques.  Alors venez découvrir l’aviron\, un sport bien adapté aux personnes déficientes visuelles. Que vous soyez débutant ou sportif confirmé\, vous pouvez venir essayer à condition de savoir nager. \nVous serez encadrés par des moniteurs spécialisés. \nVous pourrez ramer  sur une  yolette à 4 rameurs et 1 bareur\, un bateau très stable. \nNous vous attendons nombreux : \nchaque mercredi à 17 h 30 précise \nau local du LS Aviron à Vidy \nPour s’y rendre\, prendre le bus no 1 devant la gare de Lausanne  jusqu’à l’arrêt de la Maladière. Ensuite\, une personne pourra vous accompagner jusqu’au local. \nLes entraînements se dérouleront chaque mercredi soir de 17 h 30 à 20 h 30 jusqu’en octobre. \nLes guides du GSHV qui aimeraient essayer sont aussi les bienvenus.  \nMatériel  : un gilet de sauvetage est obligatoire. Il est fournit par le club \nPrécisions complémentaires : Par une météo incertaine\, l’entraînement a lieu de toute façon  à l’intérieur soit au bassin couvert ou soit en salle sur les rameurs \nInscription chez Nadia Trimarchi  	 078 857 37 43 \nou sur le groupe whats’app avant chaque dimanche
URL:https://wp.gshv.ch/activite/aviron-avec-le-lausanne-sport-aviron-a-vidy-14/
CATEGORIES:Aviron
END:VEVENT
BEGIN:VEVENT
DTSTART;VALUE=DATE:20240713
DTEND;VALUE=DATE:20240714
DTSTAMP:20260423T050055
CREATED:20240527T152725Z
LAST-MODIFIED:20240527T152851Z
UID:2223-1720828800-1720915199@wp.gshv.ch
SUMMARY:Paddle 2024 (3ème sortie)
DESCRIPTION:Vous ne craignez pas l’eau. Vous voulez passer un moment convivial sur le lac Léman. \nNous vous proposons de découvrir les joies du Stand Up Paddle.  \nCe cours convient aussi bien aux sportifs débutants qu’aux sportifs confirmés. \nCette année\, nous vous proposons à nouveau 5 cours avec notre coach spécialisée\nKiny Parade \nDates :\n–	dimanche 9 juin\n–	Samedi-  29 juin\n–	Samedi 13juillet\n–	Samedi 10 août\n–	Samedi 7 septembre \nLieu de l’activité  Versoix à Genève plage de la Bécassine \nLes horaires vous seront communiqués ultérieurement \nEncadrement : Kiny Parade coach spécialisée \nPrix : CHF 30\,- \nRepas : Restaurant\nRepas à votre charge\, boissons offertes pars le GSHV \nRemarque : savoir bien nager \nEn cas de mauvais temps l’activité sera annulée \nInscription chez Vincent tél : 079 235 93 29\nOu sur le groupe whats’app une semaine avant l’activité
URL:https://wp.gshv.ch/activite/paddle-2024-3/
CATEGORIES:Paddle
END:VEVENT
BEGIN:VEVENT
DTSTART;TZID=Europe/Zurich:20240717T173000
DTEND;TZID=Europe/Zurich:20240717T203000
DTSTAMP:20260423T050055
CREATED:20240330T135317Z
LAST-MODIFIED:20241027T143057Z
UID:1675-1721237400-1721248200@wp.gshv.ch
SUMMARY:Aviron avec le Lausanne Sport Aviron à Vidy 2024
DESCRIPTION:Activité : Aviron avec le Lausanne Sport Aviron à Vidy à Lausanne \nVous aimez les sports nautiques.  Alors venez découvrir l’aviron\, un sport bien adapté aux personnes déficientes visuelles. Que vous soyez débutant ou sportif confirmé\, vous pouvez venir essayer à condition de savoir nager. \nVous serez encadrés par des moniteurs spécialisés. \nVous pourrez ramer  sur une  yolette à 4 rameurs et 1 bareur\, un bateau très stable. \nNous vous attendons nombreux : \nchaque mercredi à 17 h 30 précise \nau local du LS Aviron à Vidy \nPour s’y rendre\, prendre le bus no 1 devant la gare de Lausanne  jusqu’à l’arrêt de la Maladière. Ensuite\, une personne pourra vous accompagner jusqu’au local. \nLes entraînements se dérouleront chaque mercredi soir de 17 h 30 à 20 h 30 jusqu’en octobre. \nLes guides du GSHV qui aimeraient essayer sont aussi les bienvenus.  \nMatériel  : un gilet de sauvetage est obligatoire. Il est fournit par le club \nPrécisions complémentaires : Par une météo incertaine\, l’entraînement a lieu de toute façon  à l’intérieur soit au bassin couvert ou soit en salle sur les rameurs \nInscription chez Nadia Trimarchi  	 078 857 37 43 \nou sur le groupe whats’app avant chaque dimanche
URL:https://wp.gshv.ch/activite/aviron-avec-le-lausanne-sport-aviron-a-vidy-15/
CATEGORIES:Aviron
END:VEVENT
BEGIN:VEVENT
DTSTART;TZID=Europe/Zurich:20240724T173000
DTEND;TZID=Europe/Zurich:20240724T203000
DTSTAMP:20260423T050055
CREATED:20240330T135331Z
LAST-MODIFIED:20241027T142953Z
UID:1676-1721842200-1721853000@wp.gshv.ch
SUMMARY:Aviron avec le Lausanne Sport Aviron à Vidy 2024
DESCRIPTION:Activité : Aviron avec le Lausanne Sport Aviron à Vidy à Lausanne \nVous aimez les sports nautiques.  Alors venez découvrir l’aviron\, un sport bien adapté aux personnes déficientes visuelles. Que vous soyez débutant ou sportif confirmé\, vous pouvez venir essayer à condition de savoir nager. \nVous serez encadrés par des moniteurs spécialisés. \nVous pourrez ramer  sur une  yolette à 4 rameurs et 1 bareur\, un bateau très stable. \nNous vous attendons nombreux : \nchaque mercredi à 17 h 30 précise \nau local du LS Aviron à Vidy \nPour s’y rendre\, prendre le bus no 1 devant la gare de Lausanne  jusqu’à l’arrêt de la Maladière. Ensuite\, une personne pourra vous accompagner jusqu’au local. \nLes entraînements se dérouleront chaque mercredi soir de 17 h 30 à 20 h 30 jusqu’en octobre. \nLes guides du GSHV qui aimeraient essayer sont aussi les bienvenus.  \nMatériel  : un gilet de sauvetage est obligatoire. Il est fournit par le club \nPrécisions complémentaires : Par une météo incertaine\, l’entraînement a lieu de toute façon  à l’intérieur soit au bassin couvert ou soit en salle sur les rameurs \nInscription chez Nadia Trimarchi  	 078 857 37 43 \nou sur le groupe whats’app avant chaque dimanche
URL:https://wp.gshv.ch/activite/aviron-avec-le-lausanne-sport-aviron-a-vidy-16/
CATEGORIES:Aviron
END:VEVENT
BEGIN:VEVENT
DTSTART;TZID=Europe/Zurich:20240727T090000
DTEND;TZID=Europe/Zurich:20240727T170000
DTSTAMP:20260423T050055
CREATED:20240330T135417Z
LAST-MODIFIED:20241027T151435Z
UID:1693-1722070800-1722099600@wp.gshv.ch
SUMMARY:6ème sortie de tandem 2024
DESCRIPTION:Comme ces dernières saisons\, pour nos premières sorties\, nous vous proposerons des parcours de  35 à 50 kilomètres.  \nPour toutes nos sorties\, le rendez-vous est fixé à 9 h à notre  local   route\ndes Plaines du loup 7 à Lausanne. \nDans la mesure du possible\, essayez de vous inscrire une semaine avant l’événement\, cela facilitera la recherche de pilotes\, nous vous en remercions.   \nInscription chez Vincent Tourel                             079 235 93 29.
URL:https://wp.gshv.ch/activite/tandem6/
CATEGORIES:Tandem
END:VEVENT
BEGIN:VEVENT
DTSTART;TZID=Europe/Zurich:20240731T173000
DTEND;TZID=Europe/Zurich:20240731T203000
DTSTAMP:20260423T050055
CREATED:20240330T135331Z
LAST-MODIFIED:20241027T113014Z
UID:1677-1722447000-1722457800@wp.gshv.ch
SUMMARY:Aviron avec le Lausanne Sport Aviron à Vidy 2024
DESCRIPTION:Activité : Aviron avec le Lausanne Sport Aviron à Vidy à Lausanne \nVous aimez les sports nautiques.  Alors venez découvrir l’aviron\, un sport bien adapté aux personnes déficientes visuelles. Que vous soyez débutant ou sportif confirmé\, vous pouvez venir essayer à condition de savoir nager. \nVous serez encadrés par des moniteurs spécialisés. \nVous pourrez ramer  sur une  yolette à 4 rameurs et 1 bareur\, un bateau très stable. \nNous vous attendons nombreux : \nchaque mercredi à 17 h 30 précise \nau local du LS Aviron à Vidy \nPour s’y rendre\, prendre le bus no 1 devant la gare de Lausanne  jusqu’à l’arrêt de la Maladière. Ensuite\, une personne pourra vous accompagner jusqu’au local. \nLes entraînements se dérouleront chaque mercredi soir de 17 h 30 à 20 h 30 jusqu’en octobre. \nLes guides du GSHV qui aimeraient essayer sont aussi les bienvenus.  \nMatériel  : un gilet de sauvetage est obligatoire. Il est fournit par le club \nPrécisions complémentaires : Par une météo incertaine\, l’entraînement a lieu de toute façon  à l’intérieur soit au bassin couvert ou soit en salle sur les rameurs \nInscription chez Nadia Trimarchi  	 078 857 37 43 \nou sur le groupe whats’app avant chaque dimanche
URL:https://wp.gshv.ch/activite/aviron-avec-le-lausanne-sport-aviron-a-vidy-17/
CATEGORIES:Aviron
END:VEVENT
END:VCALENDAR